Package: globalSeq Version: 1.38.0 Command: /home/biocbuild/R/R/bin/R CMD INSTALL globalSeq StartedAt: 2025-11-20 21:51:07 -0000 (Thu, 20 Nov 2025) EndedAt: 2025-11-20 21:52:15 -0000 (Thu, 20 Nov 2025) EllapsedTime: 68.2 seconds RetCode: 0 Status: OK