Package: globalSeq Version: 1.38.0 Command: /home/biocbuild/R/R/bin/R CMD build --keep-empty-dirs --no-resave-data globalSeq StartedAt: 2025-11-21 02:49:22 -0000 (Fri, 21 Nov 2025) EndedAt: 2025-11-21 02:49:34 -0000 (Fri, 21 Nov 2025) EllapsedTime: 12.0 seconds RetCode: 0 Status: OK PackageFile: globalSeq_1.38.0.tar.gz PackageFileSize: 755.4 KiB