Package: glmSparseNet Version: 1.28.0 Command: /home/biocbuild/bbs-3.22-bioc/R/bin/R CMD INSTALL glmSparseNet StartedAt: 2025-11-09 15:44:52 -0500 (Sun, 09 Nov 2025) EndedAt: 2025-11-09 15:44:56 -0500 (Sun, 09 Nov 2025) EllapsedTime: 3.3 seconds RetCode: 0 Status: OK