Package: glmGamPoi Version: 1.22.0 Command: /home/biocbuild/R/R/bin/R CMD build --keep-empty-dirs --no-resave-data glmGamPoi StartedAt: 2025-11-11 02:06:10 -0000 (Tue, 11 Nov 2025) EndedAt: 2025-11-11 02:16:27 -0000 (Tue, 11 Nov 2025) EllapsedTime: 617.2 seconds RetCode: 0 Status: OK PackageFile: glmGamPoi_1.22.0.tar.gz PackageFileSize: 1.819 MiB