Package: glmGamPoi Version: 1.21.0 Command: F:\biocbuild\bbs-3.22-bioc\R\bin\R.exe CMD INSTALL glmGamPoi StartedAt: 2025-08-14 16:22:21 -0400 (Thu, 14 Aug 2025) EndedAt: 2025-08-14 16:23:56 -0400 (Thu, 14 Aug 2025) EllapsedTime: 94.3 seconds RetCode: 0 Status: OK