Package: glmGamPoi Version: 1.22.0 Command: /home/biocbuild/bbs-3.22-bioc/R/bin/R CMD check --install=check:glmGamPoi.install-out.txt --library=/home/biocbuild/bbs-3.22-bioc/R/site-library --timings glmGamPoi_1.22.0.tar.gz StartedAt: 2025-11-07 00:05:33 -0500 (Fri, 07 Nov 2025) EndedAt: 2025-11-07 00:15:32 -0500 (Fri, 07 Nov 2025) EllapsedTime: 598.6 seconds RetCode: 0 Status: WARNINGS CheckDir: glmGamPoi.Rcheck Warnings: 1