Package: glmGamPoi Version: 1.22.0 Command: /home/biocbuild/bbs-3.22-bioc/R/bin/R CMD build --keep-empty-dirs --no-resave-data --md5 glmGamPoi StartedAt: 2025-11-06 17:53:14 -0500 (Thu, 06 Nov 2025) EndedAt: 2025-11-06 18:00:45 -0500 (Thu, 06 Nov 2025) EllapsedTime: 451.3 seconds RetCode: 0 Status: OK PackageFile: glmGamPoi_1.22.0.tar.gz PackageFileSize: 2.098 MiB