Package: girafe Version: 1.60.0 Command: /Library/Frameworks/R.framework/Resources/bin/R CMD INSTALL girafe StartedAt: 2025-10-13 16:32:49 -0400 (Mon, 13 Oct 2025) EndedAt: 2025-10-13 16:34:13 -0400 (Mon, 13 Oct 2025) EllapsedTime: 84.3 seconds RetCode: 0 Status: OK