Package: ginmappeR Version: 1.5.0 Command: F:\biocbuild\bbs-3.22-bioc\R\bin\R.exe CMD check --no-multiarch --install=check:ginmappeR.install-out.txt --library=F:\biocbuild\bbs-3.22-bioc\R\library --no-vignettes --timings ginmappeR_1.5.0.tar.gz StartedAt: 2025-08-15 03:46:43 -0400 (Fri, 15 Aug 2025) EndedAt: 2025-08-15 03:57:57 -0400 (Fri, 15 Aug 2025) EllapsedTime: 673.7 seconds RetCode: 0 Status: OK CheckDir: ginmappeR.Rcheck Warnings: 0