Package: ginmappeR Version: 1.6.0 Command: /home/biocbuild/bbs-3.22-bioc/R/bin/R CMD INSTALL ginmappeR StartedAt: 2025-11-06 15:33:04 -0500 (Thu, 06 Nov 2025) EndedAt: 2025-11-06 15:33:20 -0500 (Thu, 06 Nov 2025) EllapsedTime: 15.7 seconds RetCode: 0 Status: OK