Package: ginmappeR Version: 1.6.0 Command: /home/biocbuild/bbs-3.22-bioc/R/bin/R CMD check --install=check:ginmappeR.install-out.txt --library=/home/biocbuild/bbs-3.22-bioc/R/site-library --timings ginmappeR_1.6.0.tar.gz StartedAt: 2025-11-07 00:05:03 -0500 (Fri, 07 Nov 2025) EndedAt: 2025-11-07 00:12:02 -0500 (Fri, 07 Nov 2025) EllapsedTime: 418.5 seconds RetCode: 0 Status: OK CheckDir: ginmappeR.Rcheck Warnings: 0