Package: ggtreeSpace Version: 1.6.0 Command: /Library/Frameworks/R.framework/Resources/bin/R CMD INSTALL ggtreeSpace StartedAt: 2025-11-03 15:18:03 -0500 (Mon, 03 Nov 2025) EndedAt: 2025-11-03 15:18:29 -0500 (Mon, 03 Nov 2025) EllapsedTime: 25.5 seconds RetCode: 0 Status: OK