Package: ggtreeSpace Version: 1.6.0 Command: /Library/Frameworks/R.framework/Resources/bin/R CMD build --keep-empty-dirs --no-resave-data ggtreeSpace StartedAt: 2025-11-03 17:12:15 -0500 (Mon, 03 Nov 2025) EndedAt: 2025-11-03 17:12:39 -0500 (Mon, 03 Nov 2025) EllapsedTime: 24.0 seconds RetCode: 0 Status: OK PackageFile: ggtreeSpace_1.6.0.tar.gz PackageFileSize: 560.7 KiB