Package: ggtreeSpace Version: 1.6.0 Command: /Library/Frameworks/R.framework/Resources/bin/R CMD INSTALL ggtreeSpace StartedAt: 2025-11-17 17:08:02 -0500 (Mon, 17 Nov 2025) EndedAt: 2025-11-17 17:08:06 -0500 (Mon, 17 Nov 2025) EllapsedTime: 4.2 seconds RetCode: 0 Status: OK