Package: ggtreeSpace Version: 1.6.0 Command: /Library/Frameworks/R.framework/Resources/bin/R CMD build --keep-empty-dirs --no-resave-data ggtreeSpace StartedAt: 2025-11-17 21:32:24 -0500 (Mon, 17 Nov 2025) EndedAt: 2025-11-17 21:32:32 -0500 (Mon, 17 Nov 2025) EllapsedTime: 8.1 seconds RetCode: 0 Status: OK PackageFile: ggtreeSpace_1.6.0.tar.gz PackageFileSize: 562.3 KiB