Package: ggtreeSpace Version: 1.6.0 Command: rm -rf ggtreeSpace.buildbin-libdir && mkdir ggtreeSpace.buildbin-libdir && /Users/biocbuild/BBS/utils/build-universal.sh ggtreeSpace_1.6.0.tar.gz /Library/Frameworks/R.framework/Resources/bin/R ggtreeSpace.buildbin-libdir StartedAt: 2025-11-23 08:57:11 -0500 (Sun, 23 Nov 2025) EndedAt: 2025-11-23 08:57:31 -0500 (Sun, 23 Nov 2025) EllapsedTime: 19.5 seconds RetCode: 0 Status: OK PackageFile: ggtreeSpace_1.6.0.tgz PackageFileSize: 637.1 KiB