Package: ggtree Version: 3.16.3 Command: /home/biocbuild/R/R/bin/R CMD INSTALL ggtree StartedAt: 2025-10-13 20:21:19 -0000 (Mon, 13 Oct 2025) EndedAt: 2025-10-13 20:21:43 -0000 (Mon, 13 Oct 2025) EllapsedTime: 23.4 seconds RetCode: 0 Status: OK