Package: ggtree Version: 3.16.3 Command: /home/biocbuild/R/R/bin/R CMD build --keep-empty-dirs --no-resave-data ggtree StartedAt: 2025-10-14 01:14:46 -0000 (Tue, 14 Oct 2025) EndedAt: 2025-10-14 01:15:06 -0000 (Tue, 14 Oct 2025) EllapsedTime: 20.0 seconds RetCode: 0 Status: OK PackageFile: ggtree_3.16.3.tar.gz PackageFileSize: 354.5 KiB