Package: ggsc Version: 1.7.1 Command: /home/biocbuild/R/R/bin/R CMD check --install=check:ggsc.install-out.txt --library=/home/biocbuild/R/R/site-library --no-vignettes --timings ggsc_1.7.1.tar.gz StartedAt: 2025-10-17 09:36:03 -0000 (Fri, 17 Oct 2025) EndedAt: 2025-10-17 09:43:25 -0000 (Fri, 17 Oct 2025) EllapsedTime: 442.3 seconds RetCode: 0 Status: OK CheckDir: ggsc.Rcheck Warnings: 0