Package: ggsc Version: 1.7.0 Command: chmod a+r ggsc -R && F:\biocbuild\bbs-3.22-bioc\R\bin\R.exe CMD build --keep-empty-dirs --no-resave-data ggsc StartedAt: 2025-08-14 20:31:26 -0400 (Thu, 14 Aug 2025) EndedAt: 2025-08-14 20:33:00 -0400 (Thu, 14 Aug 2025) EllapsedTime: 94.8 seconds RetCode: 0 Status: OK PackageFile: ggsc_1.7.0.tar.gz PackageFileSize: 81.3 KiB