Package: ggmsa Version: 1.14.1 Command: /Library/Frameworks/R.framework/Resources/bin/R CMD check --install=check:ggmsa.install-out.txt --library=/Library/Frameworks/R.framework/Resources/library --no-vignettes --timings ggmsa_1.14.1.tar.gz StartedAt: 2025-09-30 04:21:46 -0400 (Tue, 30 Sep 2025) EndedAt: 2025-09-30 04:26:01 -0400 (Tue, 30 Sep 2025) EllapsedTime: 255.6 seconds RetCode: 0 Status: WARNINGS CheckDir: ggmsa.Rcheck Warnings: 1