Package: ggmanh Version: 1.14.0 Command: /home/biocbuild/R/R/bin/R CMD INSTALL ggmanh StartedAt: 2025-11-20 22:23:22 -0000 (Thu, 20 Nov 2025) EndedAt: 2025-11-20 22:23:30 -0000 (Thu, 20 Nov 2025) EllapsedTime: 8.0 seconds RetCode: 0 Status: OK