Package: ggmanh Version: 1.14.0 Command: /home/biocbuild/R/R/bin/R CMD build --keep-empty-dirs --no-resave-data ggmanh StartedAt: 2025-11-21 02:45:59 -0000 (Fri, 21 Nov 2025) EndedAt: 2025-11-21 02:47:07 -0000 (Fri, 21 Nov 2025) EllapsedTime: 68.0 seconds RetCode: 0 Status: OK PackageFile: ggmanh_1.14.0.tar.gz PackageFileSize: 3.396 MiB