Package: ggmanh Version: 1.13.0 Command: F:\biocbuild\bbs-3.22-bioc\R\bin\R.exe CMD check --no-multiarch --install=check:ggmanh.install-out.txt --library=F:\biocbuild\bbs-3.22-bioc\R\library --no-vignettes --timings ggmanh_1.13.0.tar.gz StartedAt: 2025-08-15 03:43:11 -0400 (Fri, 15 Aug 2025) EndedAt: 2025-08-15 03:44:12 -0400 (Fri, 15 Aug 2025) EllapsedTime: 60.2 seconds RetCode: 0 Status: OK CheckDir: ggmanh.Rcheck Warnings: 0