Package: ggmanh Version: 1.14.0 Command: /home/biocbuild/bbs-3.22-bioc/R/bin/R CMD INSTALL ggmanh StartedAt: 2025-11-11 15:36:05 -0500 (Tue, 11 Nov 2025) EndedAt: 2025-11-11 15:36:11 -0500 (Tue, 11 Nov 2025) EllapsedTime: 5.6 seconds RetCode: 0 Status: OK