Package: ggmanh Version: 1.14.0 Command: /home/biocbuild/bbs-3.22-bioc/R/bin/R CMD check --install=check:ggmanh.install-out.txt --library=/home/biocbuild/bbs-3.22-bioc/R/site-library --timings ggmanh_1.14.0.tar.gz StartedAt: 2025-11-12 00:07:46 -0500 (Wed, 12 Nov 2025) EndedAt: 2025-11-12 00:09:17 -0500 (Wed, 12 Nov 2025) EllapsedTime: 91.1 seconds RetCode: 0 Status: OK CheckDir: ggmanh.Rcheck Warnings: 0