Package: ggmanh Version: 1.12.0 Command: /Library/Frameworks/R.framework/Resources/bin/R CMD check --install=check:ggmanh.install-out.txt --library=/Library/Frameworks/R.framework/Resources/library --no-vignettes --timings ggmanh_1.12.0.tar.gz StartedAt: 2025-04-21 19:37:59 -0400 (Mon, 21 Apr 2025) EndedAt: 2025-04-21 19:38:19 -0400 (Mon, 21 Apr 2025) EllapsedTime: 20.3 seconds RetCode: 0 Status: OK CheckDir: ggmanh.Rcheck Warnings: 0