Package: ggkegg Version: 1.6.2 Command: /home/biocbuild/R/R/bin/R CMD INSTALL ggkegg StartedAt: 2025-10-13 20:21:43 -0000 (Mon, 13 Oct 2025) EndedAt: 2025-10-13 20:22:07 -0000 (Mon, 13 Oct 2025) EllapsedTime: 24.3 seconds RetCode: 0 Status: OK