Package: ggkegg Version: 1.6.2 Command: /home/biocbuild/R/R/bin/R CMD build --keep-empty-dirs --no-resave-data ggkegg StartedAt: 2025-10-14 01:13:13 -0000 (Tue, 14 Oct 2025) EndedAt: 2025-10-14 01:14:40 -0000 (Tue, 14 Oct 2025) EllapsedTime: 87.0 seconds RetCode: 0 Status: OK PackageFile: ggkegg_1.6.2.tar.gz PackageFileSize: 3.482 MiB