Package: ggcyto Version: 1.38.0 Command: /home/biocbuild/bbs-3.22-bioc/R/bin/R CMD build --keep-empty-dirs --no-resave-data --md5 ggcyto StartedAt: 2025-11-06 17:51:41 -0500 (Thu, 06 Nov 2025) EndedAt: 2025-11-06 17:53:21 -0500 (Thu, 06 Nov 2025) EllapsedTime: 100.1 seconds RetCode: 0 Status: OK PackageFile: ggcyto_1.38.0.tar.gz PackageFileSize: 21.42 MiB