Package: gg4way Version: 1.8.0 Command: /home/biocbuild/bbs-3.22-bioc/R/bin/R CMD INSTALL gg4way StartedAt: 2025-11-06 15:23:25 -0500 (Thu, 06 Nov 2025) EndedAt: 2025-11-06 15:23:52 -0500 (Thu, 06 Nov 2025) EllapsedTime: 27.0 seconds RetCode: 0 Status: OK