Package: gg4way Version: 1.8.0 Command: /home/biocbuild/bbs-3.22-bioc/R/bin/R CMD build --keep-empty-dirs --no-resave-data --md5 gg4way StartedAt: 2025-11-06 17:51:31 -0500 (Thu, 06 Nov 2025) EndedAt: 2025-11-06 17:52:53 -0500 (Thu, 06 Nov 2025) EllapsedTime: 82.1 seconds RetCode: 0 Status: OK PackageFile: gg4way_1.8.0.tar.gz PackageFileSize: 2.923 MiB