Package: gg4way Version: 1.6.1 Command: /home/biocbuild/R/R/bin/R CMD check --install=check:gg4way.install-out.txt --library=/home/biocbuild/R/R/site-library --no-vignettes --timings gg4way_1.6.1.tar.gz StartedAt: 2025-10-14 09:38:49 -0000 (Tue, 14 Oct 2025) EndedAt: 2025-10-14 09:44:27 -0000 (Tue, 14 Oct 2025) EllapsedTime: 338.2 seconds RetCode: 0 Status: OK CheckDir: gg4way.Rcheck Warnings: 0