Package: geva Version: 1.17.0 Command: F:\biocbuild\bbs-3.22-bioc\R\bin\R.exe CMD check --no-multiarch --install=check:geva.install-out.txt --library=F:\biocbuild\bbs-3.22-bioc\R\library --no-vignettes --timings geva_1.17.0.tar.gz StartedAt: 2025-08-15 03:41:56 -0400 (Fri, 15 Aug 2025) EndedAt: 2025-08-15 03:45:53 -0400 (Fri, 15 Aug 2025) EllapsedTime: 237.4 seconds RetCode: 0 Status: OK CheckDir: geva.Rcheck Warnings: 0