Package: geva Version: 1.18.0 Command: /home/biocbuild/bbs-3.22-bioc/R/bin/R CMD INSTALL geva StartedAt: 2025-11-06 15:06:12 -0500 (Thu, 06 Nov 2025) EndedAt: 2025-11-06 15:06:47 -0500 (Thu, 06 Nov 2025) EllapsedTime: 35.4 seconds RetCode: 0 Status: OK