Package: geva Version: 1.18.0 Command: /Library/Frameworks/R.framework/Resources/bin/R CMD check --install=check:geva.install-out.txt --library=/Library/Frameworks/R.framework/Resources/library --no-vignettes --timings geva_1.18.0.tar.gz StartedAt: 2025-11-06 20:00:41 -0500 (Thu, 06 Nov 2025) EndedAt: 2025-11-06 20:01:49 -0500 (Thu, 06 Nov 2025) EllapsedTime: 67.8 seconds RetCode: 0 Status: OK CheckDir: geva.Rcheck Warnings: 0