Package: geva Version: 1.18.0 Command: /Library/Frameworks/R.framework/Resources/bin/R CMD build --keep-empty-dirs --no-resave-data geva StartedAt: 2025-11-06 16:31:54 -0500 (Thu, 06 Nov 2025) EndedAt: 2025-11-06 16:32:38 -0500 (Thu, 06 Nov 2025) EllapsedTime: 44.4 seconds RetCode: 0 Status: OK PackageFile: geva_1.18.0.tar.gz PackageFileSize: 2.244 MiB