Package: geva Version: 1.18.0 Command: /Library/Frameworks/R.framework/Resources/bin/R CMD check --install=check:geva.install-out.txt --library=/Library/Frameworks/R.framework/Resources/library --no-vignettes --timings geva_1.18.0.tar.gz StartedAt: 2025-11-18 07:06:52 -0500 (Tue, 18 Nov 2025) EndedAt: 2025-11-18 07:08:13 -0500 (Tue, 18 Nov 2025) EllapsedTime: 80.7 seconds RetCode: 0 Status: OK CheckDir: geva.Rcheck Warnings: 0