Package: geva Version: 1.18.0 Command: /Library/Frameworks/R.framework/Resources/bin/R CMD build --keep-empty-dirs --no-resave-data geva StartedAt: 2025-11-21 01:56:42 -0500 (Fri, 21 Nov 2025) EndedAt: 2025-11-21 01:59:05 -0500 (Fri, 21 Nov 2025) EllapsedTime: 143.4 seconds RetCode: 0 Status: OK PackageFile: geva_1.18.0.tar.gz PackageFileSize: 2.244 MiB