Package: geomeTriD Version: 1.2.2 Command: /Library/Frameworks/R.framework/Resources/bin/R CMD INSTALL geomeTriD StartedAt: 2025-10-13 16:26:01 -0400 (Mon, 13 Oct 2025) EndedAt: 2025-10-13 16:27:58 -0400 (Mon, 13 Oct 2025) EllapsedTime: 116.5 seconds RetCode: 0 Status: OK