Package: geomeTriD Version: 1.2.2 Command: rm -rf geomeTriD.buildbin-libdir && mkdir geomeTriD.buildbin-libdir && /Users/biocbuild/BBS/utils/build-universal.sh geomeTriD_1.2.2.tar.gz /Library/Frameworks/R.framework/Resources/bin/R geomeTriD.buildbin-libdir StartedAt: 2025-10-14 13:34:53 -0400 (Tue, 14 Oct 2025) EndedAt: 2025-10-14 13:37:54 -0400 (Tue, 14 Oct 2025) EllapsedTime: 181.6 seconds RetCode: 0 Status: OK PackageFile: geomeTriD_1.2.2.tgz PackageFileSize: 1.559 MiB