Package: geomeTriD Version: 1.2.2 Command: /home/biocbuild/R/R/bin/R CMD INSTALL geomeTriD StartedAt: 2025-10-13 21:04:27 -0000 (Mon, 13 Oct 2025) EndedAt: 2025-10-13 21:05:50 -0000 (Mon, 13 Oct 2025) EllapsedTime: 83.3 seconds RetCode: 0 Status: OK