Package: geomeTriD Version: 1.2.2 Command: /home/biocbuild/R/R/bin/R CMD check --install=check:geomeTriD.install-out.txt --library=/home/biocbuild/R/R/site-library --no-vignettes --timings geomeTriD_1.2.2.tar.gz StartedAt: 2025-10-14 09:35:32 -0000 (Tue, 14 Oct 2025) EndedAt: 2025-10-14 09:46:07 -0000 (Tue, 14 Oct 2025) EllapsedTime: 635.4 seconds RetCode: 0 Status: OK CheckDir: geomeTriD.Rcheck Warnings: 0