Package: genomicInstability Version: 1.14.0 Command: /home/biocbuild/R/R/bin/R CMD build --keep-empty-dirs --no-resave-data genomicInstability StartedAt: 2025-10-14 01:06:24 -0000 (Tue, 14 Oct 2025) EndedAt: 2025-10-14 01:10:50 -0000 (Tue, 14 Oct 2025) EllapsedTime: 266.1 seconds RetCode: 0 Status: OK PackageFile: genomicInstability_1.14.0.tar.gz PackageFileSize: 1.213 MiB