Package: genomes Version: 3.38.0 Command: /Library/Frameworks/R.framework/Resources/bin/R CMD build --keep-empty-dirs --no-resave-data genomes StartedAt: 2025-10-13 19:16:44 -0400 (Mon, 13 Oct 2025) EndedAt: 2025-10-13 19:17:00 -0400 (Mon, 13 Oct 2025) EllapsedTime: 16.0 seconds RetCode: 0 Status: OK PackageFile: genomes_3.38.0.tar.gz PackageFileSize: 98.71 KiB