Package: genomes Version: 3.40.0 Command: /Library/Frameworks/R.framework/Resources/bin/R CMD check --install=check:genomes.install-out.txt --library=/Library/Frameworks/R.framework/Resources/library --no-vignettes --timings genomes_3.40.0.tar.gz StartedAt: 2025-10-31 19:58:58 -0400 (Fri, 31 Oct 2025) EndedAt: 2025-10-31 19:59:11 -0400 (Fri, 31 Oct 2025) EllapsedTime: 12.2 seconds RetCode: 0 Status: OK CheckDir: genomes.Rcheck Warnings: 0