Package: genomeIntervals Version: 1.66.0 Command: /home/biocbuild/R/R/bin/R CMD INSTALL genomeIntervals StartedAt: 2025-11-20 22:04:43 -0000 (Thu, 20 Nov 2025) EndedAt: 2025-11-20 22:05:00 -0000 (Thu, 20 Nov 2025) EllapsedTime: 17.5 seconds RetCode: 0 Status: OK