Package: genomeIntervals Version: 1.66.0 Command: /home/biocbuild/R/R/bin/R CMD check --install=check:genomeIntervals.install-out.txt --library=/home/biocbuild/R/R/site-library --no-vignettes --timings genomeIntervals_1.66.0.tar.gz StartedAt: 2025-11-21 11:00:42 -0000 (Fri, 21 Nov 2025) EndedAt: 2025-11-21 11:02:31 -0000 (Fri, 21 Nov 2025) EllapsedTime: 109.1 seconds RetCode: 0 Status: WARNINGS CheckDir: genomeIntervals.Rcheck Warnings: 1