Package: genomeIntervals Version: 1.66.0 Command: /home/biocbuild/bbs-3.22-bioc/R/bin/R CMD INSTALL genomeIntervals StartedAt: 2025-11-20 16:06:35 -0500 (Thu, 20 Nov 2025) EndedAt: 2025-11-20 16:06:47 -0500 (Thu, 20 Nov 2025) EllapsedTime: 12.1 seconds RetCode: 0 Status: OK