Package: genomeIntervals Version: 1.64.0 Command: /home/biocbuild/R/R/bin/R CMD check --install=check:genomeIntervals.install-out.txt --library=/home/biocbuild/R/R/site-library --no-vignettes --timings genomeIntervals_1.64.0.tar.gz StartedAt: 2025-10-14 09:27:22 -0000 (Tue, 14 Oct 2025) EndedAt: 2025-10-14 09:29:19 -0000 (Tue, 14 Oct 2025) EllapsedTime: 117.1 seconds RetCode: 0 Status: WARNINGS CheckDir: genomeIntervals.Rcheck Warnings: 1